BEGIN:VCALENDAR
VERSION:2.0
PRODID:-//Warren Congregational Church - ECPv6.15.20//NONSGML v1.0//EN
CALSCALE:GREGORIAN
METHOD:PUBLISH
X-ORIGINAL-URL:https://warrencongregationalchurch.org
X-WR-CALDESC:Events for Warren Congregational Church
REFRESH-INTERVAL;VALUE=DURATION:PT1H
X-Robots-Tag:noindex
X-PUBLISHED-TTL:PT1H
BEGIN:VTIMEZONE
TZID:America/New_York
BEGIN:DAYLIGHT
TZOFFSETFROM:-0500
TZOFFSETTO:-0400
TZNAME:EDT
DTSTART:20260308T070000
END:DAYLIGHT
BEGIN:STANDARD
TZOFFSETFROM:-0400
TZOFFSETTO:-0500
TZNAME:EST
DTSTART:20261101T060000
END:STANDARD
BEGIN:DAYLIGHT
TZOFFSETFROM:-0500
TZOFFSETTO:-0400
TZNAME:EDT
DTSTART:20270314T070000
END:DAYLIGHT
BEGIN:STANDARD
TZOFFSETFROM:-0400
TZOFFSETTO:-0500
TZNAME:EST
DTSTART:20271107T060000
END:STANDARD
BEGIN:DAYLIGHT
TZOFFSETFROM:-0500
TZOFFSETTO:-0400
TZNAME:EDT
DTSTART:20280312T070000
END:DAYLIGHT
BEGIN:STANDARD
TZOFFSETFROM:-0400
TZOFFSETTO:-0500
TZNAME:EST
DTSTART:20281105T060000
END:STANDARD
END:VTIMEZONE
BEGIN:VEVENT
DTSTART;TZID=America/New_York:20270516T100000
DTEND;TZID=America/New_York:20270516T113000
DTSTAMP:20260424T233753
CREATED:20230327T191345Z
LAST-MODIFIED:20260320T152259Z
UID:10001622-1810461600-1810467000@warrencongregationalchurch.org
SUMMARY:Sunday Morning Worship Service
DESCRIPTION:
URL:https://warrencongregationalchurch.org/event/sunday-morning-worship-service/2027-05-16/
END:VEVENT
BEGIN:VEVENT
DTSTART;TZID=America/New_York:20270519T180000
DTEND;TZID=America/New_York:20270519T183000
DTSTAMP:20260424T233753
CREATED:20260320T152546Z
LAST-MODIFIED:20260320T152546Z
UID:10001897-1810749600-1810751400@warrencongregationalchurch.org
SUMMARY:Prayer and Praise
DESCRIPTION:
URL:https://warrencongregationalchurch.org/event/prayer-and-praise/2027-05-19/
END:VEVENT
BEGIN:VEVENT
DTSTART;TZID=America/New_York:20270519T183000
DTEND;TZID=America/New_York:20270519T200000
DTSTAMP:20260424T233753
CREATED:20260320T152854Z
LAST-MODIFIED:20260320T152854Z
UID:10002157-1810751400-1810756800@warrencongregationalchurch.org
SUMMARY:Men's Bible Study
DESCRIPTION:
URL:https://warrencongregationalchurch.org/event/mens-bible-study/2027-05-19/
END:VEVENT
BEGIN:VEVENT
DTSTART;TZID=America/New_York:20270523T100000
DTEND;TZID=America/New_York:20270523T233000
DTSTAMP:20260424T233753
CREATED:20260320T152015Z
LAST-MODIFIED:20260320T152015Z
UID:10001791-1811066400-1811115000@warrencongregationalchurch.org
SUMMARY:Brunch Sunday Service
DESCRIPTION:
URL:https://warrencongregationalchurch.org/event/brunch-sunday-service/2027-05-23/
END:VEVENT
BEGIN:VEVENT
DTSTART;TZID=America/New_York:20270526T180000
DTEND;TZID=America/New_York:20270526T183000
DTSTAMP:20260424T233753
CREATED:20260320T152546Z
LAST-MODIFIED:20260320T152546Z
UID:10001898-1811354400-1811356200@warrencongregationalchurch.org
SUMMARY:Prayer and Praise
DESCRIPTION:
URL:https://warrencongregationalchurch.org/event/prayer-and-praise/2027-05-26/
END:VEVENT
BEGIN:VEVENT
DTSTART;TZID=America/New_York:20270526T183000
DTEND;TZID=America/New_York:20270526T200000
DTSTAMP:20260424T233753
CREATED:20260320T152854Z
LAST-MODIFIED:20260320T152854Z
UID:10002158-1811356200-1811361600@warrencongregationalchurch.org
SUMMARY:Men's Bible Study
DESCRIPTION:
URL:https://warrencongregationalchurch.org/event/mens-bible-study/2027-05-26/
END:VEVENT
BEGIN:VEVENT
DTSTART;TZID=America/New_York:20270530T100000
DTEND;TZID=America/New_York:20270530T113000
DTSTAMP:20260424T233753
CREATED:20230327T191345Z
LAST-MODIFIED:20260320T152259Z
UID:10001623-1811671200-1811676600@warrencongregationalchurch.org
SUMMARY:Sunday Morning Worship Service
DESCRIPTION:
URL:https://warrencongregationalchurch.org/event/sunday-morning-worship-service/2027-05-30/
END:VEVENT
BEGIN:VEVENT
DTSTART;TZID=America/New_York:20270602T180000
DTEND;TZID=America/New_York:20270602T183000
DTSTAMP:20260424T233753
CREATED:20260320T152546Z
LAST-MODIFIED:20260320T152546Z
UID:10001899-1811959200-1811961000@warrencongregationalchurch.org
SUMMARY:Prayer and Praise
DESCRIPTION:
URL:https://warrencongregationalchurch.org/event/prayer-and-praise/2027-06-02/
END:VEVENT
BEGIN:VEVENT
DTSTART;TZID=America/New_York:20270602T183000
DTEND;TZID=America/New_York:20270602T200000
DTSTAMP:20260424T233753
CREATED:20260320T152854Z
LAST-MODIFIED:20260320T152854Z
UID:10002159-1811961000-1811966400@warrencongregationalchurch.org
SUMMARY:Men's Bible Study
DESCRIPTION:
URL:https://warrencongregationalchurch.org/event/mens-bible-study/2027-06-02/
END:VEVENT
BEGIN:VEVENT
DTSTART;TZID=America/New_York:20270606T100000
DTEND;TZID=America/New_York:20270606T113000
DTSTAMP:20260424T233753
CREATED:20230327T191345Z
LAST-MODIFIED:20260320T152259Z
UID:10001624-1812276000-1812281400@warrencongregationalchurch.org
SUMMARY:Sunday Morning Worship Service
DESCRIPTION:
URL:https://warrencongregationalchurch.org/event/sunday-morning-worship-service/2027-06-06/
END:VEVENT
BEGIN:VEVENT
DTSTART;TZID=America/New_York:20270609T180000
DTEND;TZID=America/New_York:20270609T183000
DTSTAMP:20260424T233753
CREATED:20260320T152546Z
LAST-MODIFIED:20260320T152546Z
UID:10001900-1812564000-1812565800@warrencongregationalchurch.org
SUMMARY:Prayer and Praise
DESCRIPTION:
URL:https://warrencongregationalchurch.org/event/prayer-and-praise/2027-06-09/
END:VEVENT
BEGIN:VEVENT
DTSTART;TZID=America/New_York:20270609T183000
DTEND;TZID=America/New_York:20270609T200000
DTSTAMP:20260424T233753
CREATED:20260320T152854Z
LAST-MODIFIED:20260320T152854Z
UID:10002160-1812565800-1812571200@warrencongregationalchurch.org
SUMMARY:Men's Bible Study
DESCRIPTION:
URL:https://warrencongregationalchurch.org/event/mens-bible-study/2027-06-09/
END:VEVENT
BEGIN:VEVENT
DTSTART;TZID=America/New_York:20270613T100000
DTEND;TZID=America/New_York:20270613T113000
DTSTAMP:20260424T233753
CREATED:20230327T191345Z
LAST-MODIFIED:20260320T152259Z
UID:10001625-1812880800-1812886200@warrencongregationalchurch.org
SUMMARY:Sunday Morning Worship Service
DESCRIPTION:
URL:https://warrencongregationalchurch.org/event/sunday-morning-worship-service/2027-06-13/
END:VEVENT
BEGIN:VEVENT
DTSTART;TZID=America/New_York:20270616T180000
DTEND;TZID=America/New_York:20270616T183000
DTSTAMP:20260424T233753
CREATED:20260320T152546Z
LAST-MODIFIED:20260320T152546Z
UID:10001901-1813168800-1813170600@warrencongregationalchurch.org
SUMMARY:Prayer and Praise
DESCRIPTION:
URL:https://warrencongregationalchurch.org/event/prayer-and-praise/2027-06-16/
END:VEVENT
BEGIN:VEVENT
DTSTART;TZID=America/New_York:20270616T183000
DTEND;TZID=America/New_York:20270616T200000
DTSTAMP:20260424T233753
CREATED:20260320T152854Z
LAST-MODIFIED:20260320T152854Z
UID:10002161-1813170600-1813176000@warrencongregationalchurch.org
SUMMARY:Men's Bible Study
DESCRIPTION:
URL:https://warrencongregationalchurch.org/event/mens-bible-study/2027-06-16/
END:VEVENT
BEGIN:VEVENT
DTSTART;TZID=America/New_York:20270620T100000
DTEND;TZID=America/New_York:20270620T113000
DTSTAMP:20260424T233753
CREATED:20230327T191345Z
LAST-MODIFIED:20260320T152259Z
UID:10001626-1813485600-1813491000@warrencongregationalchurch.org
SUMMARY:Sunday Morning Worship Service
DESCRIPTION:
URL:https://warrencongregationalchurch.org/event/sunday-morning-worship-service/2027-06-20/
END:VEVENT
BEGIN:VEVENT
DTSTART;TZID=America/New_York:20270623T180000
DTEND;TZID=America/New_York:20270623T183000
DTSTAMP:20260424T233753
CREATED:20260320T152546Z
LAST-MODIFIED:20260320T152546Z
UID:10001902-1813773600-1813775400@warrencongregationalchurch.org
SUMMARY:Prayer and Praise
DESCRIPTION:
URL:https://warrencongregationalchurch.org/event/prayer-and-praise/2027-06-23/
END:VEVENT
BEGIN:VEVENT
DTSTART;TZID=America/New_York:20270623T183000
DTEND;TZID=America/New_York:20270623T200000
DTSTAMP:20260424T233753
CREATED:20260320T152854Z
LAST-MODIFIED:20260320T152854Z
UID:10002162-1813775400-1813780800@warrencongregationalchurch.org
SUMMARY:Men's Bible Study
DESCRIPTION:
URL:https://warrencongregationalchurch.org/event/mens-bible-study/2027-06-23/
END:VEVENT
BEGIN:VEVENT
DTSTART;TZID=America/New_York:20270627T100000
DTEND;TZID=America/New_York:20270627T233000
DTSTAMP:20260424T233753
CREATED:20260320T152015Z
LAST-MODIFIED:20260320T152015Z
UID:10001792-1814090400-1814139000@warrencongregationalchurch.org
SUMMARY:Brunch Sunday Service
DESCRIPTION:
URL:https://warrencongregationalchurch.org/event/brunch-sunday-service/2027-06-27/
END:VEVENT
BEGIN:VEVENT
DTSTART;TZID=America/New_York:20270630T180000
DTEND;TZID=America/New_York:20270630T183000
DTSTAMP:20260424T233753
CREATED:20260320T152546Z
LAST-MODIFIED:20260320T152546Z
UID:10001903-1814378400-1814380200@warrencongregationalchurch.org
SUMMARY:Prayer and Praise
DESCRIPTION:
URL:https://warrencongregationalchurch.org/event/prayer-and-praise/2027-06-30/
END:VEVENT
BEGIN:VEVENT
DTSTART;TZID=America/New_York:20270630T183000
DTEND;TZID=America/New_York:20270630T200000
DTSTAMP:20260424T233753
CREATED:20260320T152854Z
LAST-MODIFIED:20260320T152854Z
UID:10002163-1814380200-1814385600@warrencongregationalchurch.org
SUMMARY:Men's Bible Study
DESCRIPTION:
URL:https://warrencongregationalchurch.org/event/mens-bible-study/2027-06-30/
END:VEVENT
BEGIN:VEVENT
DTSTART;TZID=America/New_York:20270704T100000
DTEND;TZID=America/New_York:20270704T113000
DTSTAMP:20260424T233753
CREATED:20230327T191345Z
LAST-MODIFIED:20260320T152259Z
UID:10001627-1814695200-1814700600@warrencongregationalchurch.org
SUMMARY:Sunday Morning Worship Service
DESCRIPTION:
URL:https://warrencongregationalchurch.org/event/sunday-morning-worship-service/2027-07-04/
END:VEVENT
BEGIN:VEVENT
DTSTART;TZID=America/New_York:20270707T180000
DTEND;TZID=America/New_York:20270707T183000
DTSTAMP:20260424T233753
CREATED:20260320T152546Z
LAST-MODIFIED:20260320T152546Z
UID:10001904-1814983200-1814985000@warrencongregationalchurch.org
SUMMARY:Prayer and Praise
DESCRIPTION:
URL:https://warrencongregationalchurch.org/event/prayer-and-praise/2027-07-07/
END:VEVENT
BEGIN:VEVENT
DTSTART;TZID=America/New_York:20270707T183000
DTEND;TZID=America/New_York:20270707T200000
DTSTAMP:20260424T233753
CREATED:20260320T152854Z
LAST-MODIFIED:20260320T152854Z
UID:10002164-1814985000-1814990400@warrencongregationalchurch.org
SUMMARY:Men's Bible Study
DESCRIPTION:
URL:https://warrencongregationalchurch.org/event/mens-bible-study/2027-07-07/
END:VEVENT
BEGIN:VEVENT
DTSTART;TZID=America/New_York:20270711T100000
DTEND;TZID=America/New_York:20270711T113000
DTSTAMP:20260424T233753
CREATED:20230327T191345Z
LAST-MODIFIED:20260320T152259Z
UID:10001628-1815300000-1815305400@warrencongregationalchurch.org
SUMMARY:Sunday Morning Worship Service
DESCRIPTION:
URL:https://warrencongregationalchurch.org/event/sunday-morning-worship-service/2027-07-11/
END:VEVENT
BEGIN:VEVENT
DTSTART;TZID=America/New_York:20270714T180000
DTEND;TZID=America/New_York:20270714T183000
DTSTAMP:20260424T233753
CREATED:20260320T152546Z
LAST-MODIFIED:20260320T152546Z
UID:10001905-1815588000-1815589800@warrencongregationalchurch.org
SUMMARY:Prayer and Praise
DESCRIPTION:
URL:https://warrencongregationalchurch.org/event/prayer-and-praise/2027-07-14/
END:VEVENT
BEGIN:VEVENT
DTSTART;TZID=America/New_York:20270714T183000
DTEND;TZID=America/New_York:20270714T200000
DTSTAMP:20260424T233753
CREATED:20260320T152854Z
LAST-MODIFIED:20260320T152854Z
UID:10002165-1815589800-1815595200@warrencongregationalchurch.org
SUMMARY:Men's Bible Study
DESCRIPTION:
URL:https://warrencongregationalchurch.org/event/mens-bible-study/2027-07-14/
END:VEVENT
BEGIN:VEVENT
DTSTART;TZID=America/New_York:20270718T100000
DTEND;TZID=America/New_York:20270718T113000
DTSTAMP:20260424T233753
CREATED:20230327T191345Z
LAST-MODIFIED:20260320T152259Z
UID:10001629-1815904800-1815910200@warrencongregationalchurch.org
SUMMARY:Sunday Morning Worship Service
DESCRIPTION:
URL:https://warrencongregationalchurch.org/event/sunday-morning-worship-service/2027-07-18/
END:VEVENT
BEGIN:VEVENT
DTSTART;TZID=America/New_York:20270721T180000
DTEND;TZID=America/New_York:20270721T183000
DTSTAMP:20260424T233753
CREATED:20260320T152546Z
LAST-MODIFIED:20260320T152546Z
UID:10001906-1816192800-1816194600@warrencongregationalchurch.org
SUMMARY:Prayer and Praise
DESCRIPTION:
URL:https://warrencongregationalchurch.org/event/prayer-and-praise/2027-07-21/
END:VEVENT
BEGIN:VEVENT
DTSTART;TZID=America/New_York:20270721T183000
DTEND;TZID=America/New_York:20270721T200000
DTSTAMP:20260424T233753
CREATED:20260320T152854Z
LAST-MODIFIED:20260320T152854Z
UID:10002166-1816194600-1816200000@warrencongregationalchurch.org
SUMMARY:Men's Bible Study
DESCRIPTION:
URL:https://warrencongregationalchurch.org/event/mens-bible-study/2027-07-21/
END:VEVENT
END:VCALENDAR