BEGIN:VCALENDAR
VERSION:2.0
PRODID:-//Warren Congregational Church - ECPv6.15.20//NONSGML v1.0//EN
CALSCALE:GREGORIAN
METHOD:PUBLISH
X-WR-CALNAME:Warren Congregational Church
X-ORIGINAL-URL:https://warrencongregationalchurch.org
X-WR-CALDESC:Events for Warren Congregational Church
REFRESH-INTERVAL;VALUE=DURATION:PT1H
X-Robots-Tag:noindex
X-PUBLISHED-TTL:PT1H
BEGIN:VTIMEZONE
TZID:America/New_York
BEGIN:DAYLIGHT
TZOFFSETFROM:-0500
TZOFFSETTO:-0400
TZNAME:EDT
DTSTART:20220313T070000
END:DAYLIGHT
BEGIN:STANDARD
TZOFFSETFROM:-0400
TZOFFSETTO:-0500
TZNAME:EST
DTSTART:20221106T060000
END:STANDARD
BEGIN:DAYLIGHT
TZOFFSETFROM:-0500
TZOFFSETTO:-0400
TZNAME:EDT
DTSTART:20230312T070000
END:DAYLIGHT
BEGIN:STANDARD
TZOFFSETFROM:-0400
TZOFFSETTO:-0500
TZNAME:EST
DTSTART:20231105T060000
END:STANDARD
BEGIN:DAYLIGHT
TZOFFSETFROM:-0500
TZOFFSETTO:-0400
TZNAME:EDT
DTSTART:20240310T070000
END:DAYLIGHT
BEGIN:STANDARD
TZOFFSETFROM:-0400
TZOFFSETTO:-0500
TZNAME:EST
DTSTART:20241103T060000
END:STANDARD
BEGIN:DAYLIGHT
TZOFFSETFROM:-0500
TZOFFSETTO:-0400
TZNAME:EDT
DTSTART:20250309T070000
END:DAYLIGHT
BEGIN:STANDARD
TZOFFSETFROM:-0400
TZOFFSETTO:-0500
TZNAME:EST
DTSTART:20251102T060000
END:STANDARD
BEGIN:DAYLIGHT
TZOFFSETFROM:-0500
TZOFFSETTO:-0400
TZNAME:EDT
DTSTART:20260308T070000
END:DAYLIGHT
BEGIN:STANDARD
TZOFFSETFROM:-0400
TZOFFSETTO:-0500
TZNAME:EST
DTSTART:20261101T060000
END:STANDARD
BEGIN:DAYLIGHT
TZOFFSETFROM:-0500
TZOFFSETTO:-0400
TZNAME:EDT
DTSTART:20270314T070000
END:DAYLIGHT
BEGIN:STANDARD
TZOFFSETFROM:-0400
TZOFFSETTO:-0500
TZNAME:EST
DTSTART:20271107T060000
END:STANDARD
END:VTIMEZONE
BEGIN:VEVENT
DTSTART;TZID=America/New_York:20260325T180000
DTEND;TZID=America/New_York:20260325T183000
DTSTAMP:20260424T061649
CREATED:20260320T152546Z
LAST-MODIFIED:20260320T152546Z
UID:10001837-1774461600-1774463400@warrencongregationalchurch.org
SUMMARY:Prayer and Praise
DESCRIPTION:
URL:https://warrencongregationalchurch.org/event/prayer-and-praise/2026-03-25/
END:VEVENT
BEGIN:VEVENT
DTSTART;TZID=America/New_York:20260322T100000
DTEND;TZID=America/New_York:20260322T233000
DTSTAMP:20260424T061649
CREATED:20260320T152015Z
LAST-MODIFIED:20260320T152015Z
UID:10001777-1774173600-1774222200@warrencongregationalchurch.org
SUMMARY:Brunch Sunday Service
DESCRIPTION:
URL:https://warrencongregationalchurch.org/event/brunch-sunday-service/2026-03-22/
END:VEVENT
BEGIN:VEVENT
DTSTART;TZID=America/New_York:20251224T160000
DTEND;TZID=America/New_York:20251224T170000
DTSTAMP:20260424T061649
CREATED:20251204T152744Z
LAST-MODIFIED:20251204T152804Z
UID:10001224-1766592000-1766595600@warrencongregationalchurch.org
SUMMARY:Christmas Eve Service
DESCRIPTION:
URL:https://warrencongregationalchurch.org/event/christmas-eve-service/
LOCATION:the church\, 123 main st\, warren\, 06754\, United States
END:VEVENT
BEGIN:VEVENT
DTSTART;TZID=America/New_York:20251213T100000
DTEND;TZID=America/New_York:20251213T150000
DTSTAMP:20260424T061649
CREATED:20251204T152346Z
LAST-MODIFIED:20251204T152417Z
UID:10001223-1765620000-1765638000@warrencongregationalchurch.org
SUMMARY:Love in Action
DESCRIPTION:
URL:https://warrencongregationalchurch.org/event/love-in-action/
LOCATION:217 New Harwinton Rd\, Torrington\, CT
END:VEVENT
BEGIN:VEVENT
DTSTART;TZID=America/New_York:20251206T173000
DTEND;TZID=America/New_York:20251206T200000
DTSTAMP:20260424T061649
CREATED:20251204T151538Z
LAST-MODIFIED:20251204T151538Z
UID:10001222-1765042200-1765051200@warrencongregationalchurch.org
SUMMARY:Holiday on the Hill
DESCRIPTION:
URL:https://warrencongregationalchurch.org/event/holiday-on-the-hill-2/
END:VEVENT
BEGIN:VEVENT
DTSTART;TZID=America/New_York:20250818T090000
DTEND;TZID=America/New_York:20250822T120000
DTSTAMP:20260424T061649
CREATED:20250715T231136Z
LAST-MODIFIED:20250715T231426Z
UID:10001221-1755507600-1755864000@warrencongregationalchurch.org
SUMMARY:Vacation Bible School
DESCRIPTION:The Warren Congregational Church presents “Kingdom Rock – where kids stand strong for God” \nTo register email Courtney at courtneyfamilywcc@gmail.com
URL:https://warrencongregationalchurch.org/event/vacation-bible-school-2/
END:VEVENT
BEGIN:VEVENT
DTSTART;TZID=America/New_York:20250304T170000
DTEND;TZID=America/New_York:20250304T190000
DTSTAMP:20260424T061649
CREATED:20250303T235510Z
LAST-MODIFIED:20250303T235510Z
UID:10001220-1741107600-1741114800@warrencongregationalchurch.org
SUMMARY:Pancake Tuesday
DESCRIPTION:
URL:https://warrencongregationalchurch.org/event/pancake-tuesday/
LOCATION:Parish Hall\, 4 Sackett Hill Road\, Warren\, CT\, 06754\, United States
END:VEVENT
BEGIN:VEVENT
DTSTART;TZID=America/New_York:20241224T180000
DTEND;TZID=America/New_York:20241224T193000
DTSTAMP:20260424T061649
CREATED:20241204T045407Z
LAST-MODIFIED:20241204T045407Z
UID:10001219-1735063200-1735068600@warrencongregationalchurch.org
SUMMARY:Christmas Eve Candlelight Service
DESCRIPTION:Christmas Eve Candlelight Service – 6:00 PM
URL:https://warrencongregationalchurch.org/event/christmas-eve-candlelight-service/
END:VEVENT
BEGIN:VEVENT
DTSTART;TZID=America/New_York:20241208T083000
DTEND;TZID=America/New_York:20241208T223000
DTSTAMP:20260424T061649
CREATED:20241204T044334Z
LAST-MODIFIED:20241204T044334Z
UID:10001217-1733646600-1733697000@warrencongregationalchurch.org
SUMMARY:Children's Christmas Pageant
DESCRIPTION:The Children’s Christmas Pageant will be on December 8th during our Breakfast Service in the Parish Hall. It is starting at 8:30 AM and should be over by 10:30AM.  The breakfast is pot luck so please join us and bring your favorite breakfast recipe to share.  There will be bacon\, sausage\, coffee\, tea and juice.
URL:https://warrencongregationalchurch.org/event/childrens-christmas-pageant/
END:VEVENT
BEGIN:VEVENT
DTSTART;TZID=America/New_York:20241207T173000
DTEND;TZID=America/New_York:20241207T193000
DTSTAMP:20260424T061649
CREATED:20241204T042048Z
LAST-MODIFIED:20241204T042048Z
UID:10001216-1733592600-1733599800@warrencongregationalchurch.org
SUMMARY:Holiday on the Hill
DESCRIPTION:
URL:https://warrencongregationalchurch.org/event/holiday-on-the-hill/
END:VEVENT
BEGIN:VEVENT
DTSTART;TZID=America/New_York:20240630T140000
DTEND;TZID=America/New_York:20240630T163000
DTSTAMP:20260424T061649
CREATED:20240620T205048Z
LAST-MODIFIED:20240620T205759Z
UID:10000815-1719756000-1719765000@warrencongregationalchurch.org
SUMMARY:Celebration of Music/Organ Dedication Event
DESCRIPTION:
URL:https://warrencongregationalchurch.org/event/celebration-of-music-organ-dedication-event/
LOCATION:the church\, 123 main st\, warren\, 06754\, United States
END:VEVENT
BEGIN:VEVENT
DTSTART;TZID=America/New_York:20240621T180000
DTEND;TZID=America/New_York:20240621T193000
DTSTAMP:20260424T061649
CREATED:20240620T210151Z
LAST-MODIFIED:20240620T210151Z
UID:10000816-1718992800-1718998200@warrencongregationalchurch.org
SUMMARY:Ed Popielarczyk’s Comedy Magic Show!!!
DESCRIPTION:
URL:https://warrencongregationalchurch.org/event/ed-popielarczyks-comedy-magic-show/
LOCATION:Parish Hall\, 4 Sackett Hill Road\, Warren\, CT\, 06754\, United States
ORGANIZER;CN="Courtney Aleksandrowicz":MAILTO:cmaleksandrowicz@yahoo.com
END:VEVENT
BEGIN:VEVENT
DTSTART;TZID=America/New_York:20230714T090000
DTEND;TZID=America/New_York:20230714T120000
DTSTAMP:20260424T061649
CREATED:20230623T164322Z
LAST-MODIFIED:20230623T164322Z
UID:10000813-1689325200-1689336000@warrencongregationalchurch.org
SUMMARY:Vacation Bible School
DESCRIPTION:We invite children ages 3 – 12 to join us for a week of circus themed fun! \nJuly 10th (Monday) thru the 14th (Friday) 9:00 AM – !2:00 PM \nWarren Congregational Church (Parish Hall) \nIf you have any questions or would like to register your child then \nplease call Courtney at cmaleksandrowicz@yahoo.com .
URL:https://warrencongregationalchurch.org/event/vacation-bible-school/2023-07-14/
LOCATION:Parish Hall\, 4 Sackett Hill Road\, Warren\, CT\, 06754\, United States
ORGANIZER;CN="Courtney Aleksandrowicz":MAILTO:cmaleksandrowicz@yahoo.com
END:VEVENT
BEGIN:VEVENT
DTSTART;TZID=America/New_York:20230713T090000
DTEND;TZID=America/New_York:20230713T120000
DTSTAMP:20260424T061649
CREATED:20230623T164322Z
LAST-MODIFIED:20230623T164322Z
UID:10000812-1689238800-1689249600@warrencongregationalchurch.org
SUMMARY:Vacation Bible School
DESCRIPTION:We invite children ages 3 – 12 to join us for a week of circus themed fun! \nJuly 10th (Monday) thru the 14th (Friday) 9:00 AM – !2:00 PM \nWarren Congregational Church (Parish Hall) \nIf you have any questions or would like to register your child then \nplease call Courtney at cmaleksandrowicz@yahoo.com .
URL:https://warrencongregationalchurch.org/event/vacation-bible-school/2023-07-13/
LOCATION:Parish Hall\, 4 Sackett Hill Road\, Warren\, CT\, 06754\, United States
ORGANIZER;CN="Courtney Aleksandrowicz":MAILTO:cmaleksandrowicz@yahoo.com
END:VEVENT
BEGIN:VEVENT
DTSTART;TZID=America/New_York:20230712T090000
DTEND;TZID=America/New_York:20230712T120000
DTSTAMP:20260424T061649
CREATED:20230623T164322Z
LAST-MODIFIED:20230623T164322Z
UID:10000811-1689152400-1689163200@warrencongregationalchurch.org
SUMMARY:Vacation Bible School
DESCRIPTION:We invite children ages 3 – 12 to join us for a week of circus themed fun! \nJuly 10th (Monday) thru the 14th (Friday) 9:00 AM – !2:00 PM \nWarren Congregational Church (Parish Hall) \nIf you have any questions or would like to register your child then \nplease call Courtney at cmaleksandrowicz@yahoo.com .
URL:https://warrencongregationalchurch.org/event/vacation-bible-school/2023-07-12/
LOCATION:Parish Hall\, 4 Sackett Hill Road\, Warren\, CT\, 06754\, United States
ORGANIZER;CN="Courtney Aleksandrowicz":MAILTO:cmaleksandrowicz@yahoo.com
END:VEVENT
BEGIN:VEVENT
DTSTART;TZID=America/New_York:20230711T090000
DTEND;TZID=America/New_York:20230711T120000
DTSTAMP:20260424T061649
CREATED:20230623T164322Z
LAST-MODIFIED:20230623T164322Z
UID:10000810-1689066000-1689076800@warrencongregationalchurch.org
SUMMARY:Vacation Bible School
DESCRIPTION:We invite children ages 3 – 12 to join us for a week of circus themed fun! \nJuly 10th (Monday) thru the 14th (Friday) 9:00 AM – !2:00 PM \nWarren Congregational Church (Parish Hall) \nIf you have any questions or would like to register your child then \nplease call Courtney at cmaleksandrowicz@yahoo.com .
URL:https://warrencongregationalchurch.org/event/vacation-bible-school/2023-07-11/
LOCATION:Parish Hall\, 4 Sackett Hill Road\, Warren\, CT\, 06754\, United States
ORGANIZER;CN="Courtney Aleksandrowicz":MAILTO:cmaleksandrowicz@yahoo.com
END:VEVENT
BEGIN:VEVENT
DTSTART;TZID=America/New_York:20230710T090000
DTEND;TZID=America/New_York:20230710T120000
DTSTAMP:20260424T061649
CREATED:20230623T164322Z
LAST-MODIFIED:20230623T164322Z
UID:10000809-1688979600-1688990400@warrencongregationalchurch.org
SUMMARY:Vacation Bible School
DESCRIPTION:We invite children ages 3 – 12 to join us for a week of circus themed fun! \nJuly 10th (Monday) thru the 14th (Friday) 9:00 AM – !2:00 PM \nWarren Congregational Church (Parish Hall) \nIf you have any questions or would like to register your child then \nplease call Courtney at cmaleksandrowicz@yahoo.com .
URL:https://warrencongregationalchurch.org/event/vacation-bible-school/2023-07-10/
LOCATION:Parish Hall\, 4 Sackett Hill Road\, Warren\, CT\, 06754\, United States
ORGANIZER;CN="Courtney Aleksandrowicz":MAILTO:cmaleksandrowicz@yahoo.com
END:VEVENT
BEGIN:VEVENT
DTSTART;TZID=America/New_York:20230625T103000
DTEND;TZID=America/New_York:20230625T233000
DTSTAMP:20260424T061649
CREATED:20230623T160124Z
LAST-MODIFIED:20230623T160124Z
UID:10000795-1687689000-1687735800@warrencongregationalchurch.org
SUMMARY:Choir Sunday
DESCRIPTION:
URL:https://warrencongregationalchurch.org/event/choir-sunday/
END:VEVENT
END:VCALENDAR