BEGIN:VCALENDAR
VERSION:2.0
PRODID:-//Warren Congregational Church - ECPv6.15.20//NONSGML v1.0//EN
CALSCALE:GREGORIAN
METHOD:PUBLISH
X-ORIGINAL-URL:https://warrencongregationalchurch.org
X-WR-CALDESC:Events for Warren Congregational Church
REFRESH-INTERVAL;VALUE=DURATION:PT1H
X-Robots-Tag:noindex
X-PUBLISHED-TTL:PT1H
BEGIN:VTIMEZONE
TZID:America/New_York
BEGIN:DAYLIGHT
TZOFFSETFROM:-0500
TZOFFSETTO:-0400
TZNAME:EDT
DTSTART:20250309T070000
END:DAYLIGHT
BEGIN:STANDARD
TZOFFSETFROM:-0400
TZOFFSETTO:-0500
TZNAME:EST
DTSTART:20251102T060000
END:STANDARD
BEGIN:DAYLIGHT
TZOFFSETFROM:-0500
TZOFFSETTO:-0400
TZNAME:EDT
DTSTART:20260308T070000
END:DAYLIGHT
BEGIN:STANDARD
TZOFFSETFROM:-0400
TZOFFSETTO:-0500
TZNAME:EST
DTSTART:20261101T060000
END:STANDARD
BEGIN:DAYLIGHT
TZOFFSETFROM:-0500
TZOFFSETTO:-0400
TZNAME:EDT
DTSTART:20270314T070000
END:DAYLIGHT
BEGIN:STANDARD
TZOFFSETFROM:-0400
TZOFFSETTO:-0500
TZNAME:EST
DTSTART:20271107T060000
END:STANDARD
BEGIN:DAYLIGHT
TZOFFSETFROM:-0500
TZOFFSETTO:-0400
TZNAME:EDT
DTSTART:20280312T070000
END:DAYLIGHT
BEGIN:STANDARD
TZOFFSETFROM:-0400
TZOFFSETTO:-0500
TZNAME:EST
DTSTART:20281105T060000
END:STANDARD
END:VTIMEZONE
BEGIN:VEVENT
DTSTART;TZID=America/New_York:20261104T180000
DTEND;TZID=America/New_York:20261104T183000
DTSTAMP:20260424T120640
CREATED:20260320T152546Z
LAST-MODIFIED:20260320T152546Z
UID:10001869-1793815200-1793817000@warrencongregationalchurch.org
SUMMARY:Prayer and Praise
DESCRIPTION:
URL:https://warrencongregationalchurch.org/event/prayer-and-praise/2026-11-04/
END:VEVENT
BEGIN:VEVENT
DTSTART;TZID=America/New_York:20261104T183000
DTEND;TZID=America/New_York:20261104T200000
DTSTAMP:20260424T120640
CREATED:20260320T152854Z
LAST-MODIFIED:20260320T152854Z
UID:10002129-1793817000-1793822400@warrencongregationalchurch.org
SUMMARY:Men's Bible Study
DESCRIPTION:
URL:https://warrencongregationalchurch.org/event/mens-bible-study/2026-11-04/
END:VEVENT
BEGIN:VEVENT
DTSTART;TZID=America/New_York:20261108T100000
DTEND;TZID=America/New_York:20261108T113000
DTSTAMP:20260424T120640
CREATED:20230327T191345Z
LAST-MODIFIED:20260320T152259Z
UID:10001601-1794132000-1794137400@warrencongregationalchurch.org
SUMMARY:Sunday Morning Worship Service
DESCRIPTION:
URL:https://warrencongregationalchurch.org/event/sunday-morning-worship-service/2026-11-08/
END:VEVENT
BEGIN:VEVENT
DTSTART;TZID=America/New_York:20261111T180000
DTEND;TZID=America/New_York:20261111T183000
DTSTAMP:20260424T120640
CREATED:20260320T152546Z
LAST-MODIFIED:20260320T152546Z
UID:10001870-1794420000-1794421800@warrencongregationalchurch.org
SUMMARY:Prayer and Praise
DESCRIPTION:
URL:https://warrencongregationalchurch.org/event/prayer-and-praise/2026-11-11/
END:VEVENT
BEGIN:VEVENT
DTSTART;TZID=America/New_York:20261111T183000
DTEND;TZID=America/New_York:20261111T200000
DTSTAMP:20260424T120640
CREATED:20260320T152854Z
LAST-MODIFIED:20260320T152854Z
UID:10002130-1794421800-1794427200@warrencongregationalchurch.org
SUMMARY:Men's Bible Study
DESCRIPTION:
URL:https://warrencongregationalchurch.org/event/mens-bible-study/2026-11-11/
END:VEVENT
BEGIN:VEVENT
DTSTART;TZID=America/New_York:20261115T100000
DTEND;TZID=America/New_York:20261115T113000
DTSTAMP:20260424T120640
CREATED:20230327T191345Z
LAST-MODIFIED:20260320T152259Z
UID:10001602-1794736800-1794742200@warrencongregationalchurch.org
SUMMARY:Sunday Morning Worship Service
DESCRIPTION:
URL:https://warrencongregationalchurch.org/event/sunday-morning-worship-service/2026-11-15/
END:VEVENT
BEGIN:VEVENT
DTSTART;TZID=America/New_York:20261118T180000
DTEND;TZID=America/New_York:20261118T183000
DTSTAMP:20260424T120640
CREATED:20260320T152546Z
LAST-MODIFIED:20260320T152546Z
UID:10001871-1795024800-1795026600@warrencongregationalchurch.org
SUMMARY:Prayer and Praise
DESCRIPTION:
URL:https://warrencongregationalchurch.org/event/prayer-and-praise/2026-11-18/
END:VEVENT
BEGIN:VEVENT
DTSTART;TZID=America/New_York:20261118T183000
DTEND;TZID=America/New_York:20261118T200000
DTSTAMP:20260424T120640
CREATED:20260320T152854Z
LAST-MODIFIED:20260320T152854Z
UID:10002131-1795026600-1795032000@warrencongregationalchurch.org
SUMMARY:Men's Bible Study
DESCRIPTION:
URL:https://warrencongregationalchurch.org/event/mens-bible-study/2026-11-18/
END:VEVENT
BEGIN:VEVENT
DTSTART;TZID=America/New_York:20261122T100000
DTEND;TZID=America/New_York:20261122T233000
DTSTAMP:20260424T120640
CREATED:20260320T152015Z
LAST-MODIFIED:20260320T152015Z
UID:10001785-1795341600-1795390200@warrencongregationalchurch.org
SUMMARY:Brunch Sunday Service
DESCRIPTION:
URL:https://warrencongregationalchurch.org/event/brunch-sunday-service/2026-11-22/
END:VEVENT
BEGIN:VEVENT
DTSTART;TZID=America/New_York:20261125T180000
DTEND;TZID=America/New_York:20261125T183000
DTSTAMP:20260424T120640
CREATED:20260320T152546Z
LAST-MODIFIED:20260320T152546Z
UID:10001872-1795629600-1795631400@warrencongregationalchurch.org
SUMMARY:Prayer and Praise
DESCRIPTION:
URL:https://warrencongregationalchurch.org/event/prayer-and-praise/2026-11-25/
END:VEVENT
BEGIN:VEVENT
DTSTART;TZID=America/New_York:20261125T183000
DTEND;TZID=America/New_York:20261125T200000
DTSTAMP:20260424T120640
CREATED:20260320T152854Z
LAST-MODIFIED:20260320T152854Z
UID:10002132-1795631400-1795636800@warrencongregationalchurch.org
SUMMARY:Men's Bible Study
DESCRIPTION:
URL:https://warrencongregationalchurch.org/event/mens-bible-study/2026-11-25/
END:VEVENT
BEGIN:VEVENT
DTSTART;TZID=America/New_York:20261129T100000
DTEND;TZID=America/New_York:20261129T113000
DTSTAMP:20260424T120640
CREATED:20230327T191345Z
LAST-MODIFIED:20260320T152259Z
UID:10001603-1795946400-1795951800@warrencongregationalchurch.org
SUMMARY:Sunday Morning Worship Service
DESCRIPTION:
URL:https://warrencongregationalchurch.org/event/sunday-morning-worship-service/2026-11-29/
END:VEVENT
BEGIN:VEVENT
DTSTART;TZID=America/New_York:20261202T180000
DTEND;TZID=America/New_York:20261202T183000
DTSTAMP:20260424T120640
CREATED:20260320T152546Z
LAST-MODIFIED:20260320T152546Z
UID:10001873-1796234400-1796236200@warrencongregationalchurch.org
SUMMARY:Prayer and Praise
DESCRIPTION:
URL:https://warrencongregationalchurch.org/event/prayer-and-praise/2026-12-02/
END:VEVENT
BEGIN:VEVENT
DTSTART;TZID=America/New_York:20261202T183000
DTEND;TZID=America/New_York:20261202T200000
DTSTAMP:20260424T120640
CREATED:20260320T152854Z
LAST-MODIFIED:20260320T152854Z
UID:10002133-1796236200-1796241600@warrencongregationalchurch.org
SUMMARY:Men's Bible Study
DESCRIPTION:
URL:https://warrencongregationalchurch.org/event/mens-bible-study/2026-12-02/
END:VEVENT
BEGIN:VEVENT
DTSTART;TZID=America/New_York:20261206T100000
DTEND;TZID=America/New_York:20261206T113000
DTSTAMP:20260424T120640
CREATED:20230327T191345Z
LAST-MODIFIED:20260320T152259Z
UID:10001604-1796551200-1796556600@warrencongregationalchurch.org
SUMMARY:Sunday Morning Worship Service
DESCRIPTION:
URL:https://warrencongregationalchurch.org/event/sunday-morning-worship-service/2026-12-06/
END:VEVENT
BEGIN:VEVENT
DTSTART;TZID=America/New_York:20261209T180000
DTEND;TZID=America/New_York:20261209T183000
DTSTAMP:20260424T120640
CREATED:20260320T152546Z
LAST-MODIFIED:20260320T152546Z
UID:10001874-1796839200-1796841000@warrencongregationalchurch.org
SUMMARY:Prayer and Praise
DESCRIPTION:
URL:https://warrencongregationalchurch.org/event/prayer-and-praise/2026-12-09/
END:VEVENT
BEGIN:VEVENT
DTSTART;TZID=America/New_York:20261209T183000
DTEND;TZID=America/New_York:20261209T200000
DTSTAMP:20260424T120640
CREATED:20260320T152854Z
LAST-MODIFIED:20260320T152854Z
UID:10002134-1796841000-1796846400@warrencongregationalchurch.org
SUMMARY:Men's Bible Study
DESCRIPTION:
URL:https://warrencongregationalchurch.org/event/mens-bible-study/2026-12-09/
END:VEVENT
BEGIN:VEVENT
DTSTART;TZID=America/New_York:20261213T100000
DTEND;TZID=America/New_York:20261213T113000
DTSTAMP:20260424T120640
CREATED:20230327T191345Z
LAST-MODIFIED:20260320T152259Z
UID:10001605-1797156000-1797161400@warrencongregationalchurch.org
SUMMARY:Sunday Morning Worship Service
DESCRIPTION:
URL:https://warrencongregationalchurch.org/event/sunday-morning-worship-service/2026-12-13/
END:VEVENT
BEGIN:VEVENT
DTSTART;TZID=America/New_York:20261216T180000
DTEND;TZID=America/New_York:20261216T183000
DTSTAMP:20260424T120640
CREATED:20260320T152546Z
LAST-MODIFIED:20260320T152546Z
UID:10001875-1797444000-1797445800@warrencongregationalchurch.org
SUMMARY:Prayer and Praise
DESCRIPTION:
URL:https://warrencongregationalchurch.org/event/prayer-and-praise/2026-12-16/
END:VEVENT
BEGIN:VEVENT
DTSTART;TZID=America/New_York:20261216T183000
DTEND;TZID=America/New_York:20261216T200000
DTSTAMP:20260424T120640
CREATED:20260320T152854Z
LAST-MODIFIED:20260320T152854Z
UID:10002135-1797445800-1797451200@warrencongregationalchurch.org
SUMMARY:Men's Bible Study
DESCRIPTION:
URL:https://warrencongregationalchurch.org/event/mens-bible-study/2026-12-16/
END:VEVENT
BEGIN:VEVENT
DTSTART;TZID=America/New_York:20261220T100000
DTEND;TZID=America/New_York:20261220T113000
DTSTAMP:20260424T120640
CREATED:20230327T191345Z
LAST-MODIFIED:20260320T152259Z
UID:10001606-1797760800-1797766200@warrencongregationalchurch.org
SUMMARY:Sunday Morning Worship Service
DESCRIPTION:
URL:https://warrencongregationalchurch.org/event/sunday-morning-worship-service/2026-12-20/
END:VEVENT
BEGIN:VEVENT
DTSTART;TZID=America/New_York:20261223T180000
DTEND;TZID=America/New_York:20261223T183000
DTSTAMP:20260424T120640
CREATED:20260320T152546Z
LAST-MODIFIED:20260320T152546Z
UID:10001876-1798048800-1798050600@warrencongregationalchurch.org
SUMMARY:Prayer and Praise
DESCRIPTION:
URL:https://warrencongregationalchurch.org/event/prayer-and-praise/2026-12-23/
END:VEVENT
BEGIN:VEVENT
DTSTART;TZID=America/New_York:20261223T183000
DTEND;TZID=America/New_York:20261223T200000
DTSTAMP:20260424T120640
CREATED:20260320T152854Z
LAST-MODIFIED:20260320T152854Z
UID:10002136-1798050600-1798056000@warrencongregationalchurch.org
SUMMARY:Men's Bible Study
DESCRIPTION:
URL:https://warrencongregationalchurch.org/event/mens-bible-study/2026-12-23/
END:VEVENT
BEGIN:VEVENT
DTSTART;TZID=America/New_York:20261227T100000
DTEND;TZID=America/New_York:20261227T233000
DTSTAMP:20260424T120640
CREATED:20260320T152015Z
LAST-MODIFIED:20260320T152015Z
UID:10001786-1798365600-1798414200@warrencongregationalchurch.org
SUMMARY:Brunch Sunday Service
DESCRIPTION:
URL:https://warrencongregationalchurch.org/event/brunch-sunday-service/2026-12-27/
END:VEVENT
BEGIN:VEVENT
DTSTART;TZID=America/New_York:20261230T180000
DTEND;TZID=America/New_York:20261230T183000
DTSTAMP:20260424T120640
CREATED:20260320T152546Z
LAST-MODIFIED:20260320T152546Z
UID:10001877-1798653600-1798655400@warrencongregationalchurch.org
SUMMARY:Prayer and Praise
DESCRIPTION:
URL:https://warrencongregationalchurch.org/event/prayer-and-praise/2026-12-30/
END:VEVENT
BEGIN:VEVENT
DTSTART;TZID=America/New_York:20261230T183000
DTEND;TZID=America/New_York:20261230T200000
DTSTAMP:20260424T120640
CREATED:20260320T152854Z
LAST-MODIFIED:20260320T152854Z
UID:10002137-1798655400-1798660800@warrencongregationalchurch.org
SUMMARY:Men's Bible Study
DESCRIPTION:
URL:https://warrencongregationalchurch.org/event/mens-bible-study/2026-12-30/
END:VEVENT
BEGIN:VEVENT
DTSTART;TZID=America/New_York:20270103T100000
DTEND;TZID=America/New_York:20270103T113000
DTSTAMP:20260424T120640
CREATED:20230327T191345Z
LAST-MODIFIED:20260320T152259Z
UID:10001607-1798970400-1798975800@warrencongregationalchurch.org
SUMMARY:Sunday Morning Worship Service
DESCRIPTION:
URL:https://warrencongregationalchurch.org/event/sunday-morning-worship-service/2027-01-03/
END:VEVENT
BEGIN:VEVENT
DTSTART;TZID=America/New_York:20270106T180000
DTEND;TZID=America/New_York:20270106T183000
DTSTAMP:20260424T120640
CREATED:20260320T152546Z
LAST-MODIFIED:20260320T152546Z
UID:10001878-1799258400-1799260200@warrencongregationalchurch.org
SUMMARY:Prayer and Praise
DESCRIPTION:
URL:https://warrencongregationalchurch.org/event/prayer-and-praise/2027-01-06/
END:VEVENT
BEGIN:VEVENT
DTSTART;TZID=America/New_York:20270106T183000
DTEND;TZID=America/New_York:20270106T200000
DTSTAMP:20260424T120640
CREATED:20260320T152854Z
LAST-MODIFIED:20260320T152854Z
UID:10002138-1799260200-1799265600@warrencongregationalchurch.org
SUMMARY:Men's Bible Study
DESCRIPTION:
URL:https://warrencongregationalchurch.org/event/mens-bible-study/2027-01-06/
END:VEVENT
BEGIN:VEVENT
DTSTART;TZID=America/New_York:20270110T100000
DTEND;TZID=America/New_York:20270110T113000
DTSTAMP:20260424T120640
CREATED:20230327T191345Z
LAST-MODIFIED:20260320T152259Z
UID:10001608-1799575200-1799580600@warrencongregationalchurch.org
SUMMARY:Sunday Morning Worship Service
DESCRIPTION:
URL:https://warrencongregationalchurch.org/event/sunday-morning-worship-service/2027-01-10/
END:VEVENT
END:VCALENDAR