BEGIN:VCALENDAR
VERSION:2.0
PRODID:-//Warren Congregational Church - ECPv6.15.20//NONSGML v1.0//EN
CALSCALE:GREGORIAN
METHOD:PUBLISH
X-WR-CALNAME:Warren Congregational Church
X-ORIGINAL-URL:https://warrencongregationalchurch.org
X-WR-CALDESC:Events for Warren Congregational Church
REFRESH-INTERVAL;VALUE=DURATION:PT1H
X-Robots-Tag:noindex
X-PUBLISHED-TTL:PT1H
BEGIN:VTIMEZONE
TZID:America/New_York
BEGIN:DAYLIGHT
TZOFFSETFROM:-0500
TZOFFSETTO:-0400
TZNAME:EDT
DTSTART:20250309T070000
END:DAYLIGHT
BEGIN:STANDARD
TZOFFSETFROM:-0400
TZOFFSETTO:-0500
TZNAME:EST
DTSTART:20251102T060000
END:STANDARD
BEGIN:DAYLIGHT
TZOFFSETFROM:-0500
TZOFFSETTO:-0400
TZNAME:EDT
DTSTART:20260308T070000
END:DAYLIGHT
BEGIN:STANDARD
TZOFFSETFROM:-0400
TZOFFSETTO:-0500
TZNAME:EST
DTSTART:20261101T060000
END:STANDARD
BEGIN:DAYLIGHT
TZOFFSETFROM:-0500
TZOFFSETTO:-0400
TZNAME:EDT
DTSTART:20270314T070000
END:DAYLIGHT
BEGIN:STANDARD
TZOFFSETFROM:-0400
TZOFFSETTO:-0500
TZNAME:EST
DTSTART:20271107T060000
END:STANDARD
END:VTIMEZONE
BEGIN:VEVENT
DTSTART;TZID=America/New_York:20260701T180000
DTEND;TZID=America/New_York:20260701T183000
DTSTAMP:20260424T061623
CREATED:20260320T152546Z
LAST-MODIFIED:20260320T152546Z
UID:10001851-1782928800-1782930600@warrencongregationalchurch.org
SUMMARY:Prayer and Praise
DESCRIPTION:
URL:https://warrencongregationalchurch.org/event/prayer-and-praise/2026-07-01/
END:VEVENT
BEGIN:VEVENT
DTSTART;TZID=America/New_York:20260701T183000
DTEND;TZID=America/New_York:20260701T200000
DTSTAMP:20260424T061623
CREATED:20260320T152854Z
LAST-MODIFIED:20260320T152854Z
UID:10002111-1782930600-1782936000@warrencongregationalchurch.org
SUMMARY:Men's Bible Study
DESCRIPTION:
URL:https://warrencongregationalchurch.org/event/mens-bible-study/2026-07-01/
END:VEVENT
BEGIN:VEVENT
DTSTART;TZID=America/New_York:20260705T100000
DTEND;TZID=America/New_York:20260705T113000
DTSTAMP:20260424T061623
CREATED:20230327T191345Z
LAST-MODIFIED:20260320T152259Z
UID:10001587-1783245600-1783251000@warrencongregationalchurch.org
SUMMARY:Sunday Morning Worship Service
DESCRIPTION:
URL:https://warrencongregationalchurch.org/event/sunday-morning-worship-service/2026-07-05/
END:VEVENT
BEGIN:VEVENT
DTSTART;TZID=America/New_York:20260708T180000
DTEND;TZID=America/New_York:20260708T183000
DTSTAMP:20260424T061623
CREATED:20260320T152546Z
LAST-MODIFIED:20260320T152546Z
UID:10001852-1783533600-1783535400@warrencongregationalchurch.org
SUMMARY:Prayer and Praise
DESCRIPTION:
URL:https://warrencongregationalchurch.org/event/prayer-and-praise/2026-07-08/
END:VEVENT
BEGIN:VEVENT
DTSTART;TZID=America/New_York:20260708T183000
DTEND;TZID=America/New_York:20260708T200000
DTSTAMP:20260424T061623
CREATED:20260320T152854Z
LAST-MODIFIED:20260320T152854Z
UID:10002112-1783535400-1783540800@warrencongregationalchurch.org
SUMMARY:Men's Bible Study
DESCRIPTION:
URL:https://warrencongregationalchurch.org/event/mens-bible-study/2026-07-08/
END:VEVENT
BEGIN:VEVENT
DTSTART;TZID=America/New_York:20260712T100000
DTEND;TZID=America/New_York:20260712T113000
DTSTAMP:20260424T061623
CREATED:20230327T191345Z
LAST-MODIFIED:20260320T152259Z
UID:10001588-1783850400-1783855800@warrencongregationalchurch.org
SUMMARY:Sunday Morning Worship Service
DESCRIPTION:
URL:https://warrencongregationalchurch.org/event/sunday-morning-worship-service/2026-07-12/
END:VEVENT
BEGIN:VEVENT
DTSTART;TZID=America/New_York:20260715T180000
DTEND;TZID=America/New_York:20260715T183000
DTSTAMP:20260424T061623
CREATED:20260320T152546Z
LAST-MODIFIED:20260320T152546Z
UID:10001853-1784138400-1784140200@warrencongregationalchurch.org
SUMMARY:Prayer and Praise
DESCRIPTION:
URL:https://warrencongregationalchurch.org/event/prayer-and-praise/2026-07-15/
END:VEVENT
BEGIN:VEVENT
DTSTART;TZID=America/New_York:20260715T183000
DTEND;TZID=America/New_York:20260715T200000
DTSTAMP:20260424T061623
CREATED:20260320T152854Z
LAST-MODIFIED:20260320T152854Z
UID:10002113-1784140200-1784145600@warrencongregationalchurch.org
SUMMARY:Men's Bible Study
DESCRIPTION:
URL:https://warrencongregationalchurch.org/event/mens-bible-study/2026-07-15/
END:VEVENT
BEGIN:VEVENT
DTSTART;TZID=America/New_York:20260719T100000
DTEND;TZID=America/New_York:20260719T113000
DTSTAMP:20260424T061623
CREATED:20230327T191345Z
LAST-MODIFIED:20260320T152259Z
UID:10001589-1784455200-1784460600@warrencongregationalchurch.org
SUMMARY:Sunday Morning Worship Service
DESCRIPTION:
URL:https://warrencongregationalchurch.org/event/sunday-morning-worship-service/2026-07-19/
END:VEVENT
BEGIN:VEVENT
DTSTART;TZID=America/New_York:20260722T180000
DTEND;TZID=America/New_York:20260722T183000
DTSTAMP:20260424T061623
CREATED:20260320T152546Z
LAST-MODIFIED:20260320T152546Z
UID:10001854-1784743200-1784745000@warrencongregationalchurch.org
SUMMARY:Prayer and Praise
DESCRIPTION:
URL:https://warrencongregationalchurch.org/event/prayer-and-praise/2026-07-22/
END:VEVENT
BEGIN:VEVENT
DTSTART;TZID=America/New_York:20260722T183000
DTEND;TZID=America/New_York:20260722T200000
DTSTAMP:20260424T061623
CREATED:20260320T152854Z
LAST-MODIFIED:20260320T152854Z
UID:10002114-1784745000-1784750400@warrencongregationalchurch.org
SUMMARY:Men's Bible Study
DESCRIPTION:
URL:https://warrencongregationalchurch.org/event/mens-bible-study/2026-07-22/
END:VEVENT
BEGIN:VEVENT
DTSTART;TZID=America/New_York:20260726T100000
DTEND;TZID=America/New_York:20260726T233000
DTSTAMP:20260424T061623
CREATED:20260320T152015Z
LAST-MODIFIED:20260320T152015Z
UID:10001781-1785060000-1785108600@warrencongregationalchurch.org
SUMMARY:Brunch Sunday Service
DESCRIPTION:
URL:https://warrencongregationalchurch.org/event/brunch-sunday-service/2026-07-26/
END:VEVENT
BEGIN:VEVENT
DTSTART;TZID=America/New_York:20260729T180000
DTEND;TZID=America/New_York:20260729T183000
DTSTAMP:20260424T061623
CREATED:20260320T152546Z
LAST-MODIFIED:20260320T152546Z
UID:10001855-1785348000-1785349800@warrencongregationalchurch.org
SUMMARY:Prayer and Praise
DESCRIPTION:
URL:https://warrencongregationalchurch.org/event/prayer-and-praise/2026-07-29/
END:VEVENT
BEGIN:VEVENT
DTSTART;TZID=America/New_York:20260729T183000
DTEND;TZID=America/New_York:20260729T200000
DTSTAMP:20260424T061623
CREATED:20260320T152854Z
LAST-MODIFIED:20260320T152854Z
UID:10002115-1785349800-1785355200@warrencongregationalchurch.org
SUMMARY:Men's Bible Study
DESCRIPTION:
URL:https://warrencongregationalchurch.org/event/mens-bible-study/2026-07-29/
END:VEVENT
BEGIN:VEVENT
DTSTART;TZID=America/New_York:20260802T100000
DTEND;TZID=America/New_York:20260802T113000
DTSTAMP:20260424T061623
CREATED:20230327T191345Z
LAST-MODIFIED:20260320T152259Z
UID:10001590-1785664800-1785670200@warrencongregationalchurch.org
SUMMARY:Sunday Morning Worship Service
DESCRIPTION:
URL:https://warrencongregationalchurch.org/event/sunday-morning-worship-service/2026-08-02/
END:VEVENT
BEGIN:VEVENT
DTSTART;TZID=America/New_York:20260805T180000
DTEND;TZID=America/New_York:20260805T183000
DTSTAMP:20260424T061623
CREATED:20260320T152546Z
LAST-MODIFIED:20260320T152546Z
UID:10001856-1785952800-1785954600@warrencongregationalchurch.org
SUMMARY:Prayer and Praise
DESCRIPTION:
URL:https://warrencongregationalchurch.org/event/prayer-and-praise/2026-08-05/
END:VEVENT
BEGIN:VEVENT
DTSTART;TZID=America/New_York:20260805T183000
DTEND;TZID=America/New_York:20260805T200000
DTSTAMP:20260424T061623
CREATED:20260320T152854Z
LAST-MODIFIED:20260320T152854Z
UID:10002116-1785954600-1785960000@warrencongregationalchurch.org
SUMMARY:Men's Bible Study
DESCRIPTION:
URL:https://warrencongregationalchurch.org/event/mens-bible-study/2026-08-05/
END:VEVENT
BEGIN:VEVENT
DTSTART;TZID=America/New_York:20260809T100000
DTEND;TZID=America/New_York:20260809T113000
DTSTAMP:20260424T061623
CREATED:20230327T191345Z
LAST-MODIFIED:20260320T152259Z
UID:10001591-1786269600-1786275000@warrencongregationalchurch.org
SUMMARY:Sunday Morning Worship Service
DESCRIPTION:
URL:https://warrencongregationalchurch.org/event/sunday-morning-worship-service/2026-08-09/
END:VEVENT
BEGIN:VEVENT
DTSTART;TZID=America/New_York:20260812T180000
DTEND;TZID=America/New_York:20260812T183000
DTSTAMP:20260424T061623
CREATED:20260320T152546Z
LAST-MODIFIED:20260320T152546Z
UID:10001857-1786557600-1786559400@warrencongregationalchurch.org
SUMMARY:Prayer and Praise
DESCRIPTION:
URL:https://warrencongregationalchurch.org/event/prayer-and-praise/2026-08-12/
END:VEVENT
BEGIN:VEVENT
DTSTART;TZID=America/New_York:20260812T183000
DTEND;TZID=America/New_York:20260812T200000
DTSTAMP:20260424T061623
CREATED:20260320T152854Z
LAST-MODIFIED:20260320T152854Z
UID:10002117-1786559400-1786564800@warrencongregationalchurch.org
SUMMARY:Men's Bible Study
DESCRIPTION:
URL:https://warrencongregationalchurch.org/event/mens-bible-study/2026-08-12/
END:VEVENT
BEGIN:VEVENT
DTSTART;TZID=America/New_York:20260816T100000
DTEND;TZID=America/New_York:20260816T113000
DTSTAMP:20260424T061623
CREATED:20230327T191345Z
LAST-MODIFIED:20260320T152259Z
UID:10001592-1786874400-1786879800@warrencongregationalchurch.org
SUMMARY:Sunday Morning Worship Service
DESCRIPTION:
URL:https://warrencongregationalchurch.org/event/sunday-morning-worship-service/2026-08-16/
END:VEVENT
BEGIN:VEVENT
DTSTART;TZID=America/New_York:20260819T180000
DTEND;TZID=America/New_York:20260819T183000
DTSTAMP:20260424T061623
CREATED:20260320T152546Z
LAST-MODIFIED:20260320T152546Z
UID:10001858-1787162400-1787164200@warrencongregationalchurch.org
SUMMARY:Prayer and Praise
DESCRIPTION:
URL:https://warrencongregationalchurch.org/event/prayer-and-praise/2026-08-19/
END:VEVENT
BEGIN:VEVENT
DTSTART;TZID=America/New_York:20260819T183000
DTEND;TZID=America/New_York:20260819T200000
DTSTAMP:20260424T061623
CREATED:20260320T152854Z
LAST-MODIFIED:20260320T152854Z
UID:10002118-1787164200-1787169600@warrencongregationalchurch.org
SUMMARY:Men's Bible Study
DESCRIPTION:
URL:https://warrencongregationalchurch.org/event/mens-bible-study/2026-08-19/
END:VEVENT
BEGIN:VEVENT
DTSTART;TZID=America/New_York:20260823T100000
DTEND;TZID=America/New_York:20260823T233000
DTSTAMP:20260424T061623
CREATED:20260320T152015Z
LAST-MODIFIED:20260320T152015Z
UID:10001782-1787479200-1787527800@warrencongregationalchurch.org
SUMMARY:Brunch Sunday Service
DESCRIPTION:
URL:https://warrencongregationalchurch.org/event/brunch-sunday-service/2026-08-23/
END:VEVENT
BEGIN:VEVENT
DTSTART;TZID=America/New_York:20260826T180000
DTEND;TZID=America/New_York:20260826T183000
DTSTAMP:20260424T061623
CREATED:20260320T152546Z
LAST-MODIFIED:20260320T152546Z
UID:10001859-1787767200-1787769000@warrencongregationalchurch.org
SUMMARY:Prayer and Praise
DESCRIPTION:
URL:https://warrencongregationalchurch.org/event/prayer-and-praise/2026-08-26/
END:VEVENT
BEGIN:VEVENT
DTSTART;TZID=America/New_York:20260826T183000
DTEND;TZID=America/New_York:20260826T200000
DTSTAMP:20260424T061623
CREATED:20260320T152854Z
LAST-MODIFIED:20260320T152854Z
UID:10002119-1787769000-1787774400@warrencongregationalchurch.org
SUMMARY:Men's Bible Study
DESCRIPTION:
URL:https://warrencongregationalchurch.org/event/mens-bible-study/2026-08-26/
END:VEVENT
BEGIN:VEVENT
DTSTART;TZID=America/New_York:20260830T100000
DTEND;TZID=America/New_York:20260830T113000
DTSTAMP:20260424T061623
CREATED:20230327T191345Z
LAST-MODIFIED:20260320T152259Z
UID:10001593-1788084000-1788089400@warrencongregationalchurch.org
SUMMARY:Sunday Morning Worship Service
DESCRIPTION:
URL:https://warrencongregationalchurch.org/event/sunday-morning-worship-service/2026-08-30/
END:VEVENT
BEGIN:VEVENT
DTSTART;TZID=America/New_York:20260902T180000
DTEND;TZID=America/New_York:20260902T183000
DTSTAMP:20260424T061623
CREATED:20260320T152546Z
LAST-MODIFIED:20260320T152546Z
UID:10001860-1788372000-1788373800@warrencongregationalchurch.org
SUMMARY:Prayer and Praise
DESCRIPTION:
URL:https://warrencongregationalchurch.org/event/prayer-and-praise/2026-09-02/
END:VEVENT
BEGIN:VEVENT
DTSTART;TZID=America/New_York:20260902T183000
DTEND;TZID=America/New_York:20260902T200000
DTSTAMP:20260424T061623
CREATED:20260320T152854Z
LAST-MODIFIED:20260320T152854Z
UID:10002120-1788373800-1788379200@warrencongregationalchurch.org
SUMMARY:Men's Bible Study
DESCRIPTION:
URL:https://warrencongregationalchurch.org/event/mens-bible-study/2026-09-02/
END:VEVENT
BEGIN:VEVENT
DTSTART;TZID=America/New_York:20260906T100000
DTEND;TZID=America/New_York:20260906T113000
DTSTAMP:20260424T061623
CREATED:20230327T191345Z
LAST-MODIFIED:20260320T152259Z
UID:10001594-1788688800-1788694200@warrencongregationalchurch.org
SUMMARY:Sunday Morning Worship Service
DESCRIPTION:
URL:https://warrencongregationalchurch.org/event/sunday-morning-worship-service/2026-09-06/
END:VEVENT
END:VCALENDAR