BEGIN:VCALENDAR
VERSION:2.0
PRODID:-//Warren Congregational Church - ECPv6.15.20//NONSGML v1.0//EN
CALSCALE:GREGORIAN
METHOD:PUBLISH
X-ORIGINAL-URL:https://warrencongregationalchurch.org
X-WR-CALDESC:Events for Warren Congregational Church
REFRESH-INTERVAL;VALUE=DURATION:PT1H
X-Robots-Tag:noindex
X-PUBLISHED-TTL:PT1H
BEGIN:VTIMEZONE
TZID:America/New_York
BEGIN:DAYLIGHT
TZOFFSETFROM:-0500
TZOFFSETTO:-0400
TZNAME:EDT
DTSTART:20250309T070000
END:DAYLIGHT
BEGIN:STANDARD
TZOFFSETFROM:-0400
TZOFFSETTO:-0500
TZNAME:EST
DTSTART:20251102T060000
END:STANDARD
BEGIN:DAYLIGHT
TZOFFSETFROM:-0500
TZOFFSETTO:-0400
TZNAME:EDT
DTSTART:20260308T070000
END:DAYLIGHT
BEGIN:STANDARD
TZOFFSETFROM:-0400
TZOFFSETTO:-0500
TZNAME:EST
DTSTART:20261101T060000
END:STANDARD
BEGIN:DAYLIGHT
TZOFFSETFROM:-0500
TZOFFSETTO:-0400
TZNAME:EDT
DTSTART:20270314T070000
END:DAYLIGHT
BEGIN:STANDARD
TZOFFSETFROM:-0400
TZOFFSETTO:-0500
TZNAME:EST
DTSTART:20271107T060000
END:STANDARD
END:VTIMEZONE
BEGIN:VEVENT
DTSTART;TZID=America/New_York:20260906T100000
DTEND;TZID=America/New_York:20260906T113000
DTSTAMP:20260424T104947
CREATED:20230327T191345Z
LAST-MODIFIED:20260320T152259Z
UID:10001594-1788688800-1788694200@warrencongregationalchurch.org
SUMMARY:Sunday Morning Worship Service
DESCRIPTION:
URL:https://warrencongregationalchurch.org/event/sunday-morning-worship-service/2026-09-06/
END:VEVENT
BEGIN:VEVENT
DTSTART;TZID=America/New_York:20260909T180000
DTEND;TZID=America/New_York:20260909T183000
DTSTAMP:20260424T104947
CREATED:20260320T152546Z
LAST-MODIFIED:20260320T152546Z
UID:10001861-1788976800-1788978600@warrencongregationalchurch.org
SUMMARY:Prayer and Praise
DESCRIPTION:
URL:https://warrencongregationalchurch.org/event/prayer-and-praise/2026-09-09/
END:VEVENT
BEGIN:VEVENT
DTSTART;TZID=America/New_York:20260909T183000
DTEND;TZID=America/New_York:20260909T200000
DTSTAMP:20260424T104947
CREATED:20260320T152854Z
LAST-MODIFIED:20260320T152854Z
UID:10002121-1788978600-1788984000@warrencongregationalchurch.org
SUMMARY:Men's Bible Study
DESCRIPTION:
URL:https://warrencongregationalchurch.org/event/mens-bible-study/2026-09-09/
END:VEVENT
BEGIN:VEVENT
DTSTART;TZID=America/New_York:20260913T100000
DTEND;TZID=America/New_York:20260913T113000
DTSTAMP:20260424T104947
CREATED:20230327T191345Z
LAST-MODIFIED:20260320T152259Z
UID:10001595-1789293600-1789299000@warrencongregationalchurch.org
SUMMARY:Sunday Morning Worship Service
DESCRIPTION:
URL:https://warrencongregationalchurch.org/event/sunday-morning-worship-service/2026-09-13/
END:VEVENT
BEGIN:VEVENT
DTSTART;TZID=America/New_York:20260916T180000
DTEND;TZID=America/New_York:20260916T183000
DTSTAMP:20260424T104947
CREATED:20260320T152546Z
LAST-MODIFIED:20260320T152546Z
UID:10001862-1789581600-1789583400@warrencongregationalchurch.org
SUMMARY:Prayer and Praise
DESCRIPTION:
URL:https://warrencongregationalchurch.org/event/prayer-and-praise/2026-09-16/
END:VEVENT
BEGIN:VEVENT
DTSTART;TZID=America/New_York:20260916T183000
DTEND;TZID=America/New_York:20260916T200000
DTSTAMP:20260424T104947
CREATED:20260320T152854Z
LAST-MODIFIED:20260320T152854Z
UID:10002122-1789583400-1789588800@warrencongregationalchurch.org
SUMMARY:Men's Bible Study
DESCRIPTION:
URL:https://warrencongregationalchurch.org/event/mens-bible-study/2026-09-16/
END:VEVENT
BEGIN:VEVENT
DTSTART;TZID=America/New_York:20260920T100000
DTEND;TZID=America/New_York:20260920T113000
DTSTAMP:20260424T104947
CREATED:20230327T191345Z
LAST-MODIFIED:20260320T152259Z
UID:10001596-1789898400-1789903800@warrencongregationalchurch.org
SUMMARY:Sunday Morning Worship Service
DESCRIPTION:
URL:https://warrencongregationalchurch.org/event/sunday-morning-worship-service/2026-09-20/
END:VEVENT
BEGIN:VEVENT
DTSTART;TZID=America/New_York:20260923T180000
DTEND;TZID=America/New_York:20260923T183000
DTSTAMP:20260424T104947
CREATED:20260320T152546Z
LAST-MODIFIED:20260320T152546Z
UID:10001863-1790186400-1790188200@warrencongregationalchurch.org
SUMMARY:Prayer and Praise
DESCRIPTION:
URL:https://warrencongregationalchurch.org/event/prayer-and-praise/2026-09-23/
END:VEVENT
BEGIN:VEVENT
DTSTART;TZID=America/New_York:20260923T183000
DTEND;TZID=America/New_York:20260923T200000
DTSTAMP:20260424T104947
CREATED:20260320T152854Z
LAST-MODIFIED:20260320T152854Z
UID:10002123-1790188200-1790193600@warrencongregationalchurch.org
SUMMARY:Men's Bible Study
DESCRIPTION:
URL:https://warrencongregationalchurch.org/event/mens-bible-study/2026-09-23/
END:VEVENT
BEGIN:VEVENT
DTSTART;TZID=America/New_York:20260927T100000
DTEND;TZID=America/New_York:20260927T233000
DTSTAMP:20260424T104948
CREATED:20260320T152015Z
LAST-MODIFIED:20260320T152015Z
UID:10001783-1790503200-1790551800@warrencongregationalchurch.org
SUMMARY:Brunch Sunday Service
DESCRIPTION:
URL:https://warrencongregationalchurch.org/event/brunch-sunday-service/2026-09-27/
END:VEVENT
BEGIN:VEVENT
DTSTART;TZID=America/New_York:20260930T180000
DTEND;TZID=America/New_York:20260930T183000
DTSTAMP:20260424T104948
CREATED:20260320T152546Z
LAST-MODIFIED:20260320T152546Z
UID:10001864-1790791200-1790793000@warrencongregationalchurch.org
SUMMARY:Prayer and Praise
DESCRIPTION:
URL:https://warrencongregationalchurch.org/event/prayer-and-praise/2026-09-30/
END:VEVENT
BEGIN:VEVENT
DTSTART;TZID=America/New_York:20260930T183000
DTEND;TZID=America/New_York:20260930T200000
DTSTAMP:20260424T104948
CREATED:20260320T152854Z
LAST-MODIFIED:20260320T152854Z
UID:10002124-1790793000-1790798400@warrencongregationalchurch.org
SUMMARY:Men's Bible Study
DESCRIPTION:
URL:https://warrencongregationalchurch.org/event/mens-bible-study/2026-09-30/
END:VEVENT
BEGIN:VEVENT
DTSTART;TZID=America/New_York:20261004T100000
DTEND;TZID=America/New_York:20261004T113000
DTSTAMP:20260424T104948
CREATED:20230327T191345Z
LAST-MODIFIED:20260320T152259Z
UID:10001597-1791108000-1791113400@warrencongregationalchurch.org
SUMMARY:Sunday Morning Worship Service
DESCRIPTION:
URL:https://warrencongregationalchurch.org/event/sunday-morning-worship-service/2026-10-04/
END:VEVENT
BEGIN:VEVENT
DTSTART;TZID=America/New_York:20261007T180000
DTEND;TZID=America/New_York:20261007T183000
DTSTAMP:20260424T104948
CREATED:20260320T152546Z
LAST-MODIFIED:20260320T152546Z
UID:10001865-1791396000-1791397800@warrencongregationalchurch.org
SUMMARY:Prayer and Praise
DESCRIPTION:
URL:https://warrencongregationalchurch.org/event/prayer-and-praise/2026-10-07/
END:VEVENT
BEGIN:VEVENT
DTSTART;TZID=America/New_York:20261007T183000
DTEND;TZID=America/New_York:20261007T200000
DTSTAMP:20260424T104948
CREATED:20260320T152854Z
LAST-MODIFIED:20260320T152854Z
UID:10002125-1791397800-1791403200@warrencongregationalchurch.org
SUMMARY:Men's Bible Study
DESCRIPTION:
URL:https://warrencongregationalchurch.org/event/mens-bible-study/2026-10-07/
END:VEVENT
BEGIN:VEVENT
DTSTART;TZID=America/New_York:20261011T100000
DTEND;TZID=America/New_York:20261011T113000
DTSTAMP:20260424T104948
CREATED:20230327T191345Z
LAST-MODIFIED:20260320T152259Z
UID:10001598-1791712800-1791718200@warrencongregationalchurch.org
SUMMARY:Sunday Morning Worship Service
DESCRIPTION:
URL:https://warrencongregationalchurch.org/event/sunday-morning-worship-service/2026-10-11/
END:VEVENT
BEGIN:VEVENT
DTSTART;TZID=America/New_York:20261014T180000
DTEND;TZID=America/New_York:20261014T183000
DTSTAMP:20260424T104948
CREATED:20260320T152546Z
LAST-MODIFIED:20260320T152546Z
UID:10001866-1792000800-1792002600@warrencongregationalchurch.org
SUMMARY:Prayer and Praise
DESCRIPTION:
URL:https://warrencongregationalchurch.org/event/prayer-and-praise/2026-10-14/
END:VEVENT
BEGIN:VEVENT
DTSTART;TZID=America/New_York:20261014T183000
DTEND;TZID=America/New_York:20261014T200000
DTSTAMP:20260424T104948
CREATED:20260320T152854Z
LAST-MODIFIED:20260320T152854Z
UID:10002126-1792002600-1792008000@warrencongregationalchurch.org
SUMMARY:Men's Bible Study
DESCRIPTION:
URL:https://warrencongregationalchurch.org/event/mens-bible-study/2026-10-14/
END:VEVENT
BEGIN:VEVENT
DTSTART;TZID=America/New_York:20261018T100000
DTEND;TZID=America/New_York:20261018T113000
DTSTAMP:20260424T104948
CREATED:20230327T191345Z
LAST-MODIFIED:20260320T152259Z
UID:10001599-1792317600-1792323000@warrencongregationalchurch.org
SUMMARY:Sunday Morning Worship Service
DESCRIPTION:
URL:https://warrencongregationalchurch.org/event/sunday-morning-worship-service/2026-10-18/
END:VEVENT
BEGIN:VEVENT
DTSTART;TZID=America/New_York:20261021T180000
DTEND;TZID=America/New_York:20261021T183000
DTSTAMP:20260424T104948
CREATED:20260320T152546Z
LAST-MODIFIED:20260320T152546Z
UID:10001867-1792605600-1792607400@warrencongregationalchurch.org
SUMMARY:Prayer and Praise
DESCRIPTION:
URL:https://warrencongregationalchurch.org/event/prayer-and-praise/2026-10-21/
END:VEVENT
BEGIN:VEVENT
DTSTART;TZID=America/New_York:20261021T183000
DTEND;TZID=America/New_York:20261021T200000
DTSTAMP:20260424T104948
CREATED:20260320T152854Z
LAST-MODIFIED:20260320T152854Z
UID:10002127-1792607400-1792612800@warrencongregationalchurch.org
SUMMARY:Men's Bible Study
DESCRIPTION:
URL:https://warrencongregationalchurch.org/event/mens-bible-study/2026-10-21/
END:VEVENT
BEGIN:VEVENT
DTSTART;TZID=America/New_York:20261025T100000
DTEND;TZID=America/New_York:20261025T233000
DTSTAMP:20260424T104948
CREATED:20260320T152015Z
LAST-MODIFIED:20260320T152015Z
UID:10001784-1792922400-1792971000@warrencongregationalchurch.org
SUMMARY:Brunch Sunday Service
DESCRIPTION:
URL:https://warrencongregationalchurch.org/event/brunch-sunday-service/2026-10-25/
END:VEVENT
BEGIN:VEVENT
DTSTART;TZID=America/New_York:20261028T180000
DTEND;TZID=America/New_York:20261028T183000
DTSTAMP:20260424T104948
CREATED:20260320T152546Z
LAST-MODIFIED:20260320T152546Z
UID:10001868-1793210400-1793212200@warrencongregationalchurch.org
SUMMARY:Prayer and Praise
DESCRIPTION:
URL:https://warrencongregationalchurch.org/event/prayer-and-praise/2026-10-28/
END:VEVENT
BEGIN:VEVENT
DTSTART;TZID=America/New_York:20261028T183000
DTEND;TZID=America/New_York:20261028T200000
DTSTAMP:20260424T104948
CREATED:20260320T152854Z
LAST-MODIFIED:20260320T152854Z
UID:10002128-1793212200-1793217600@warrencongregationalchurch.org
SUMMARY:Men's Bible Study
DESCRIPTION:
URL:https://warrencongregationalchurch.org/event/mens-bible-study/2026-10-28/
END:VEVENT
BEGIN:VEVENT
DTSTART;TZID=America/New_York:20261101T100000
DTEND;TZID=America/New_York:20261101T113000
DTSTAMP:20260424T104948
CREATED:20230327T191345Z
LAST-MODIFIED:20260320T152259Z
UID:10001600-1793527200-1793532600@warrencongregationalchurch.org
SUMMARY:Sunday Morning Worship Service
DESCRIPTION:
URL:https://warrencongregationalchurch.org/event/sunday-morning-worship-service/2026-11-01/
END:VEVENT
BEGIN:VEVENT
DTSTART;TZID=America/New_York:20261104T180000
DTEND;TZID=America/New_York:20261104T183000
DTSTAMP:20260424T104948
CREATED:20260320T152546Z
LAST-MODIFIED:20260320T152546Z
UID:10001869-1793815200-1793817000@warrencongregationalchurch.org
SUMMARY:Prayer and Praise
DESCRIPTION:
URL:https://warrencongregationalchurch.org/event/prayer-and-praise/2026-11-04/
END:VEVENT
BEGIN:VEVENT
DTSTART;TZID=America/New_York:20261104T183000
DTEND;TZID=America/New_York:20261104T200000
DTSTAMP:20260424T104948
CREATED:20260320T152854Z
LAST-MODIFIED:20260320T152854Z
UID:10002129-1793817000-1793822400@warrencongregationalchurch.org
SUMMARY:Men's Bible Study
DESCRIPTION:
URL:https://warrencongregationalchurch.org/event/mens-bible-study/2026-11-04/
END:VEVENT
BEGIN:VEVENT
DTSTART;TZID=America/New_York:20261108T100000
DTEND;TZID=America/New_York:20261108T113000
DTSTAMP:20260424T104948
CREATED:20230327T191345Z
LAST-MODIFIED:20260320T152259Z
UID:10001601-1794132000-1794137400@warrencongregationalchurch.org
SUMMARY:Sunday Morning Worship Service
DESCRIPTION:
URL:https://warrencongregationalchurch.org/event/sunday-morning-worship-service/2026-11-08/
END:VEVENT
BEGIN:VEVENT
DTSTART;TZID=America/New_York:20261111T180000
DTEND;TZID=America/New_York:20261111T183000
DTSTAMP:20260424T104948
CREATED:20260320T152546Z
LAST-MODIFIED:20260320T152546Z
UID:10001870-1794420000-1794421800@warrencongregationalchurch.org
SUMMARY:Prayer and Praise
DESCRIPTION:
URL:https://warrencongregationalchurch.org/event/prayer-and-praise/2026-11-11/
END:VEVENT
BEGIN:VEVENT
DTSTART;TZID=America/New_York:20261111T183000
DTEND;TZID=America/New_York:20261111T200000
DTSTAMP:20260424T104948
CREATED:20260320T152854Z
LAST-MODIFIED:20260320T152854Z
UID:10002130-1794421800-1794427200@warrencongregationalchurch.org
SUMMARY:Men's Bible Study
DESCRIPTION:
URL:https://warrencongregationalchurch.org/event/mens-bible-study/2026-11-11/
END:VEVENT
END:VCALENDAR