BEGIN:VCALENDAR
VERSION:2.0
PRODID:-//Warren Congregational Church - ECPv6.15.20//NONSGML v1.0//EN
CALSCALE:GREGORIAN
METHOD:PUBLISH
X-WR-CALNAME:Warren Congregational Church
X-ORIGINAL-URL:https://warrencongregationalchurch.org
X-WR-CALDESC:Events for Warren Congregational Church
REFRESH-INTERVAL;VALUE=DURATION:PT1H
X-Robots-Tag:noindex
X-PUBLISHED-TTL:PT1H
BEGIN:VTIMEZONE
TZID:America/New_York
BEGIN:DAYLIGHT
TZOFFSETFROM:-0500
TZOFFSETTO:-0400
TZNAME:EDT
DTSTART:20260308T070000
END:DAYLIGHT
BEGIN:STANDARD
TZOFFSETFROM:-0400
TZOFFSETTO:-0500
TZNAME:EST
DTSTART:20261101T060000
END:STANDARD
BEGIN:DAYLIGHT
TZOFFSETFROM:-0500
TZOFFSETTO:-0400
TZNAME:EDT
DTSTART:20270314T070000
END:DAYLIGHT
BEGIN:STANDARD
TZOFFSETFROM:-0400
TZOFFSETTO:-0500
TZNAME:EST
DTSTART:20271107T060000
END:STANDARD
BEGIN:DAYLIGHT
TZOFFSETFROM:-0500
TZOFFSETTO:-0400
TZNAME:EDT
DTSTART:20280312T070000
END:DAYLIGHT
BEGIN:STANDARD
TZOFFSETFROM:-0400
TZOFFSETTO:-0500
TZNAME:EST
DTSTART:20281105T060000
END:STANDARD
END:VTIMEZONE
BEGIN:VEVENT
DTSTART;TZID=America/New_York:20270801T100000
DTEND;TZID=America/New_York:20270801T113000
DTSTAMP:20260424T233452
CREATED:20230327T191345Z
LAST-MODIFIED:20260320T152259Z
UID:10001630-1817114400-1817119800@warrencongregationalchurch.org
SUMMARY:Sunday Morning Worship Service
DESCRIPTION:
URL:https://warrencongregationalchurch.org/event/sunday-morning-worship-service/2027-08-01/
END:VEVENT
BEGIN:VEVENT
DTSTART;TZID=America/New_York:20270804T180000
DTEND;TZID=America/New_York:20270804T183000
DTSTAMP:20260424T233452
CREATED:20260320T152546Z
LAST-MODIFIED:20260320T152546Z
UID:10001908-1817402400-1817404200@warrencongregationalchurch.org
SUMMARY:Prayer and Praise
DESCRIPTION:
URL:https://warrencongregationalchurch.org/event/prayer-and-praise/2027-08-04/
END:VEVENT
BEGIN:VEVENT
DTSTART;TZID=America/New_York:20270804T183000
DTEND;TZID=America/New_York:20270804T200000
DTSTAMP:20260424T233452
CREATED:20260320T152854Z
LAST-MODIFIED:20260320T152854Z
UID:10002168-1817404200-1817409600@warrencongregationalchurch.org
SUMMARY:Men's Bible Study
DESCRIPTION:
URL:https://warrencongregationalchurch.org/event/mens-bible-study/2027-08-04/
END:VEVENT
BEGIN:VEVENT
DTSTART;TZID=America/New_York:20270808T100000
DTEND;TZID=America/New_York:20270808T113000
DTSTAMP:20260424T233452
CREATED:20230327T191345Z
LAST-MODIFIED:20260320T152259Z
UID:10001631-1817719200-1817724600@warrencongregationalchurch.org
SUMMARY:Sunday Morning Worship Service
DESCRIPTION:
URL:https://warrencongregationalchurch.org/event/sunday-morning-worship-service/2027-08-08/
END:VEVENT
BEGIN:VEVENT
DTSTART;TZID=America/New_York:20270811T180000
DTEND;TZID=America/New_York:20270811T183000
DTSTAMP:20260424T233453
CREATED:20260320T152546Z
LAST-MODIFIED:20260320T152546Z
UID:10001909-1818007200-1818009000@warrencongregationalchurch.org
SUMMARY:Prayer and Praise
DESCRIPTION:
URL:https://warrencongregationalchurch.org/event/prayer-and-praise/2027-08-11/
END:VEVENT
BEGIN:VEVENT
DTSTART;TZID=America/New_York:20270811T183000
DTEND;TZID=America/New_York:20270811T200000
DTSTAMP:20260424T233453
CREATED:20260320T152854Z
LAST-MODIFIED:20260320T152854Z
UID:10002169-1818009000-1818014400@warrencongregationalchurch.org
SUMMARY:Men's Bible Study
DESCRIPTION:
URL:https://warrencongregationalchurch.org/event/mens-bible-study/2027-08-11/
END:VEVENT
BEGIN:VEVENT
DTSTART;TZID=America/New_York:20270815T100000
DTEND;TZID=America/New_York:20270815T113000
DTSTAMP:20260424T233453
CREATED:20230327T191345Z
LAST-MODIFIED:20260320T152259Z
UID:10001632-1818324000-1818329400@warrencongregationalchurch.org
SUMMARY:Sunday Morning Worship Service
DESCRIPTION:
URL:https://warrencongregationalchurch.org/event/sunday-morning-worship-service/2027-08-15/
END:VEVENT
BEGIN:VEVENT
DTSTART;TZID=America/New_York:20270818T180000
DTEND;TZID=America/New_York:20270818T183000
DTSTAMP:20260424T233453
CREATED:20260320T152546Z
LAST-MODIFIED:20260320T152546Z
UID:10001910-1818612000-1818613800@warrencongregationalchurch.org
SUMMARY:Prayer and Praise
DESCRIPTION:
URL:https://warrencongregationalchurch.org/event/prayer-and-praise/2027-08-18/
END:VEVENT
BEGIN:VEVENT
DTSTART;TZID=America/New_York:20270818T183000
DTEND;TZID=America/New_York:20270818T200000
DTSTAMP:20260424T233453
CREATED:20260320T152854Z
LAST-MODIFIED:20260320T152854Z
UID:10002170-1818613800-1818619200@warrencongregationalchurch.org
SUMMARY:Men's Bible Study
DESCRIPTION:
URL:https://warrencongregationalchurch.org/event/mens-bible-study/2027-08-18/
END:VEVENT
BEGIN:VEVENT
DTSTART;TZID=America/New_York:20270822T100000
DTEND;TZID=America/New_York:20270822T233000
DTSTAMP:20260424T233453
CREATED:20260320T152015Z
LAST-MODIFIED:20260320T152015Z
UID:10001794-1818928800-1818977400@warrencongregationalchurch.org
SUMMARY:Brunch Sunday Service
DESCRIPTION:
URL:https://warrencongregationalchurch.org/event/brunch-sunday-service/2027-08-22/
END:VEVENT
BEGIN:VEVENT
DTSTART;TZID=America/New_York:20270825T180000
DTEND;TZID=America/New_York:20270825T183000
DTSTAMP:20260424T233453
CREATED:20260320T152546Z
LAST-MODIFIED:20260320T152546Z
UID:10001911-1819216800-1819218600@warrencongregationalchurch.org
SUMMARY:Prayer and Praise
DESCRIPTION:
URL:https://warrencongregationalchurch.org/event/prayer-and-praise/2027-08-25/
END:VEVENT
BEGIN:VEVENT
DTSTART;TZID=America/New_York:20270825T183000
DTEND;TZID=America/New_York:20270825T200000
DTSTAMP:20260424T233453
CREATED:20260320T152854Z
LAST-MODIFIED:20260320T152854Z
UID:10002171-1819218600-1819224000@warrencongregationalchurch.org
SUMMARY:Men's Bible Study
DESCRIPTION:
URL:https://warrencongregationalchurch.org/event/mens-bible-study/2027-08-25/
END:VEVENT
BEGIN:VEVENT
DTSTART;TZID=America/New_York:20270829T100000
DTEND;TZID=America/New_York:20270829T113000
DTSTAMP:20260424T233453
CREATED:20230327T191345Z
LAST-MODIFIED:20260320T152259Z
UID:10001633-1819533600-1819539000@warrencongregationalchurch.org
SUMMARY:Sunday Morning Worship Service
DESCRIPTION:
URL:https://warrencongregationalchurch.org/event/sunday-morning-worship-service/2027-08-29/
END:VEVENT
END:VCALENDAR